BEGIN:VCALENDAR
VERSION:2.0
PRODID:-//Tukios.com/
BEGIN:VEVENT
UID:5e16799e-cac6-4d29-a463-139c4f6c788d@obits.goldsteinsfuneral.com
DTSTAMP:20260422T195517Z
DTSTART:20260424T150000Z
DTEND:20260424T160000Z
SUMMARY:Graveside Service
DESCRIPTION:
URL:https://obits.goldsteinsfuneral.com/sheila-epstein
LOCATION: 2701 Old Lincoln Hwy  Trevose PA 19053
GEO:40.127442;-74.9764481
END:VEVENT
END:VCALENDAR