BEGIN:VCALENDAR
VERSION:2.0
PRODID:-//Tukios.com/
BEGIN:VEVENT
UID:6e6fb62d-40d3-413f-ae49-30190ef59519@obits.goldsteinsfuneral.com
DTSTAMP:20260420T183637Z
DTSTART:20260428T193000Z
DTEND:20260428T203000Z
SUMMARY:Memorial Service
DESCRIPTION:
URL:https://obits.goldsteinsfuneral.com/percy-schiff
LOCATION: 310 2nd Street Pike  Southampton PA 18966
GEO:40.1653929;-75.0471106
END:VEVENT
END:VCALENDAR