BEGIN:VCALENDAR
VERSION:2.0
PRODID:-//Tukios.com/
BEGIN:VEVENT
UID:4c414332-fe53-4e93-820b-017278fda9a0@obits.goldsteinsfuneral.com
DTSTAMP:20260422T210703Z
DTSTART:20260501T133000Z
DTEND:20260501T143000Z
SUMMARY:Funeral Service
DESCRIPTION:
URL:https://obits.goldsteinsfuneral.com/michael-gale
LOCATION: 830 Highland Rd  Newtown PA 18940
GEO:40.2649466;-74.9046413
END:VEVENT
END:VCALENDAR