BEGIN:VCALENDAR
VERSION:2.0
PRODID:-//Tukios.com/
BEGIN:VEVENT
UID:9452e940-31e6-49f8-a49d-efe197e671ca@obits.goldsteinsfuneral.com
DTSTAMP:20260423T214251Z
DTSTART:20260426T153000Z
DTEND:20260426T163000Z
SUMMARY:Funeral Service
DESCRIPTION:
URL:https://obits.goldsteinsfuneral.com/leonard-hoberman
LOCATION: 310 2nd Street Pike  Southampton PA 18966
GEO:40.1653929;-75.0471106
END:VEVENT
END:VCALENDAR