BEGIN:VCALENDAR
VERSION:2.0
PRODID:-//Tukios.com/
BEGIN:VEVENT
UID:96906189-2293-4ba3-82d2-f240d66181c1@obits.goldsteinsfuneral.com
DTSTAMP:20260424T221632Z
DTSTART:20260426T133000Z
DTEND:20260426T143000Z
SUMMARY:Funeral Service
DESCRIPTION:
URL:https://obits.goldsteinsfuneral.com/joel-harnick
LOCATION: 310 2nd Street Pike  Southampton PA 18966
GEO:40.1653929;-75.0471106
END:VEVENT
END:VCALENDAR