BEGIN:VCALENDAR
VERSION:2.0
PRODID:-//Tukios.com/
BEGIN:VEVENT
UID:6942a123-fcfb-4f47-84b4-63639926950a@obits.goldsteinsfuneral.com
DTSTAMP:20260419T215000Z
DTSTART:20260420T133000Z
DTEND:20260420T143000Z
SUMMARY:Funeral Service
DESCRIPTION:
URL:https://obits.goldsteinsfuneral.com/jerome-gomberg
LOCATION: 310 2nd Street Pike  Southampton PA 18966
GEO:40.1653929;-75.0471106
END:VEVENT
END:VCALENDAR