BEGIN:VCALENDAR
VERSION:2.0
PRODID:-//Tukios.com/
BEGIN:VEVENT
UID:d053a5fd-939d-4f31-83f8-0c44838d8a75@obits.goldsteinsfuneral.com
DTSTAMP:20260424T204038Z
DTSTART:20260427T163000Z
DTEND:20260427T173000Z
SUMMARY:Graveside Service
DESCRIPTION:
URL:https://obits.goldsteinsfuneral.com/jeffrey-orloff
LOCATION: 8400 Lansdowne Ave.  Upper Darby PA 19082
GEO:39.9630715;-75.2948743
END:VEVENT
END:VCALENDAR