BEGIN:VCALENDAR
VERSION:2.0
PRODID:-//Tukios.com/
BEGIN:VEVENT
UID:e969471c-a484-483a-820e-069f62f270e8@obits.goldsteinsfuneral.com
DTSTAMP:20260419T215314Z
DTSTART:20260423T160000Z
DTEND:20260423T170000Z
SUMMARY:Ellen Sussmann
DESCRIPTION:
URL:https://obits.goldsteinsfuneral.com/ellen-sussmann
LOCATION: 600 Church Rd.  Jenkintown PA 19046
GEO:40.0784298;-75.0918704
END:VEVENT
END:VCALENDAR