BEGIN:VCALENDAR
VERSION:2.0
PRODID:-//Tukios.com/
BEGIN:VEVENT
UID:59fb1720-a38e-4dd3-bf3e-2dde2f165e8d@obits.goldsteinsfuneral.com
DTSTAMP:20260424T190159Z
DTSTART:20260427T170000Z
DTEND:20260427T180000Z
SUMMARY:Funeral Service
DESCRIPTION:
URL:https://obits.goldsteinsfuneral.com/elin-belsky
LOCATION: 2701 Old Lincoln Hwy.  Trevose PA 19053
GEO:40.127442;-74.9764481
END:VEVENT
END:VCALENDAR