BEGIN:VCALENDAR
VERSION:2.0
PRODID:-//Tukios.com/
BEGIN:VEVENT
UID:d3092664-79df-4bef-a2f8-a5c37143c19f@obits.goldsteinsfuneral.com
DTSTAMP:20260422T214649Z
DTSTART:20260426T150000Z
DTEND:20260426T160000Z
SUMMARY:Graveside Service
DESCRIPTION:
URL:https://obits.goldsteinsfuneral.com/dr-ira-spitzer
LOCATION: 502 E. Springfield Rd.  Springfield PA 19064
GEO:39.9275873;-75.3179828
END:VEVENT
END:VCALENDAR