BEGIN:VCALENDAR
VERSION:2.0
PRODID:-//Tukios.com/
BEGIN:VEVENT
UID:1c7b3923-780c-4979-90aa-ef94e36e806f@obits.goldsteinsfuneral.com
DTSTAMP:20260426T003901Z
DTSTART:20260427T183000Z
DTEND:20260427T193000Z
SUMMARY:Interment
DESCRIPTION:
URL:https://obits.goldsteinsfuneral.com/alvin-goldberg
LOCATION: 3594 Bristol Rd.  Bensalem PA 19020
GEO:40.1349924;-74.9457198
END:VEVENT
END:VCALENDAR