BEGIN:VCALENDAR
VERSION:2.0
PRODID:-//Tukios.com/
BEGIN:VEVENT
UID:c5e9110d-7386-41fd-84c7-91b16a7b3ced@obits.goldsteinsfuneral.com
DTSTAMP:20260426T003901Z
DTSTART:20260427T053000Z
DTEND:20260427T063000Z
SUMMARY:Funeral Service
DESCRIPTION:
URL:https://obits.goldsteinsfuneral.com/alvin-goldberg
LOCATION: 310 2nd Street Pike  Southampton PA 18966
GEO:40.1653929;-75.0471106
END:VEVENT
END:VCALENDAR